Package: magpie Version: 1.7.0 Command: /Library/Frameworks/R.framework/Resources/bin/R CMD INSTALL magpie StartedAt: 2025-02-12 15:41:29 -0500 (Wed, 12 Feb 2025) EndedAt: 2025-02-12 15:42:21 -0500 (Wed, 12 Feb 2025) EllapsedTime: 51.7 seconds RetCode: 0 Status: OK