Package: magpie Version: 1.7.0 Command: rm -rf magpie.buildbin-libdir && mkdir magpie.buildbin-libdir && E:\biocbuild\bbs-3.21-bioc\R\bin\R.exe CMD INSTALL --build --library=magpie.buildbin-libdir magpie_1.7.0.tar.gz StartedAt: 2025-02-10 08:03:42 -0500 (Mon, 10 Feb 2025) EndedAt: 2025-02-10 08:04:51 -0500 (Mon, 10 Feb 2025) EllapsedTime: 69.6 seconds RetCode: 0 Status: OK PackageFile: magpie_1.7.0.zip PackageFileSize: 1.364 MiB