Package: makecdfenv Version: 1.83.1 Maintainer: James W. MacDonald MaintainerEmail: jmacdon at u.washington.edu git_url: https://git.bioconductor.org/packages/makecdfenv git_branch: devel git_last_commit: df48c18 git_last_commit_date: 2025-01-10 11:12:50 -0500 (Fri, 10 Jan 2025)