Package: makecdfenv Version: 1.83.1 Command: rm -rf makecdfenv.buildbin-libdir && mkdir makecdfenv.buildbin-libdir && /Users/biocbuild/BBS/utils/build-universal.sh makecdfenv_1.83.1.tar.gz /Library/Frameworks/R.framework/Resources/bin/R makecdfenv.buildbin-libdir StartedAt: 2025-02-09 22:19:35 -0500 (Sun, 09 Feb 2025) EndedAt: 2025-02-09 22:19:41 -0500 (Sun, 09 Feb 2025) EllapsedTime: 5.1 seconds RetCode: 0 Status: OK PackageFile: makecdfenv_1.83.1.tgz PackageFileSize: 3.424 MiB