Package: makecdfenv Version: 1.83.1 Command: /home/biocbuild/bbs-3.21-bioc/R/bin/R CMD check --install=check:makecdfenv.install-out.txt --library=/home/biocbuild/bbs-3.21-bioc/R/site-library --timings makecdfenv_1.83.1.tar.gz StartedAt: 2025-02-09 23:44:24 -0500 (Sun, 09 Feb 2025) EndedAt: 2025-02-09 23:44:59 -0500 (Sun, 09 Feb 2025) EllapsedTime: 35.0 seconds RetCode: 0 Status: WARNINGS CheckDir: makecdfenv.Rcheck Warnings: 1