Package: makecdfenv Version: 1.83.1 Command: rm -rf makecdfenv.buildbin-libdir && mkdir makecdfenv.buildbin-libdir && E:\biocbuild\bbs-3.21-bioc\R\bin\R.exe CMD INSTALL --build --library=makecdfenv.buildbin-libdir makecdfenv_1.83.1.tar.gz StartedAt: 2025-02-13 08:15:02 -0500 (Thu, 13 Feb 2025) EndedAt: 2025-02-13 08:15:33 -0500 (Thu, 13 Feb 2025) EllapsedTime: 31.1 seconds RetCode: 0 Status: OK PackageFile: makecdfenv_1.83.1.zip PackageFileSize: 3.347 MiB