Package: mapscape Version: 1.31.0 Command: /Library/Frameworks/R.framework/Resources/bin/R CMD INSTALL mapscape StartedAt: 2025-02-09 15:23:49 -0500 (Sun, 09 Feb 2025) EndedAt: 2025-02-09 15:23:53 -0500 (Sun, 09 Feb 2025) EllapsedTime: 4.2 seconds RetCode: 0 Status: OK