Package: mapscape Version: 1.31.0 Command: E:\biocbuild\bbs-3.21-bioc\R\bin\R.exe CMD INSTALL mapscape StartedAt: 2025-02-09 15:34:53 -0500 (Sun, 09 Feb 2025) EndedAt: 2025-02-09 15:35:08 -0500 (Sun, 09 Feb 2025) EllapsedTime: 14.8 seconds RetCode: 0 Status: OK