Package: mariner Version: 1.7.0 Command: /home/biocbuild/R/R/bin/R CMD build --keep-empty-dirs --no-resave-data mariner StartedAt: 2025-01-28 23:59:44 -0000 (Tue, 28 Jan 2025) EndedAt: 2025-01-29 00:02:33 -0000 (Wed, 29 Jan 2025) EllapsedTime: 169.1 seconds RetCode: 0 Status: OK PackageFile: mariner_1.7.0.tar.gz PackageFileSize: 728.4 KiB