Package: mariner Version: 1.7.0 Command: rm -rf mariner.buildbin-libdir && mkdir mariner.buildbin-libdir && /Users/biocbuild/BBS/utils/build-universal.sh mariner_1.7.0.tar.gz /Library/Frameworks/R.framework/Resources/bin/R mariner.buildbin-libdir StartedAt: 2025-02-10 01:00:48 -0500 (Mon, 10 Feb 2025) EndedAt: 2025-02-10 01:01:50 -0500 (Mon, 10 Feb 2025) EllapsedTime: 61.4 seconds RetCode: 0 Status: OK PackageFile: mariner_1.7.0.tgz PackageFileSize: 1.23 MiB