Package: mariner Version: 1.7.0 Command: /Library/Frameworks/R.framework/Resources/bin/R CMD build --keep-empty-dirs --no-resave-data mariner StartedAt: 2025-02-09 17:17:57 -0500 (Sun, 09 Feb 2025) EndedAt: 2025-02-09 17:20:04 -0500 (Sun, 09 Feb 2025) EllapsedTime: 126.8 seconds RetCode: 0 Status: OK PackageFile: mariner_1.7.0.tar.gz PackageFileSize: 707.9 KiB