Package: mariner Version: 1.7.0 Command: /Library/Frameworks/R.framework/Resources/bin/R CMD check --install=check:mariner.install-out.txt --library=/Library/Frameworks/R.framework/Resources/library --no-vignettes --timings mariner_1.7.0.tar.gz StartedAt: 2025-02-09 21:39:17 -0500 (Sun, 09 Feb 2025) EndedAt: 2025-02-09 21:50:50 -0500 (Sun, 09 Feb 2025) EllapsedTime: 694.0 seconds RetCode: 0 Status: OK CheckDir: mariner.Rcheck Warnings: 0