Package: mariner Version: 1.7.0 Command: /home/biocbuild/bbs-3.21-bioc/R/bin/R CMD INSTALL mariner StartedAt: 2025-02-09 15:35:07 -0500 (Sun, 09 Feb 2025) EndedAt: 2025-02-09 15:35:49 -0500 (Sun, 09 Feb 2025) EllapsedTime: 42.4 seconds RetCode: 0 Status: OK