Package: marray Version: 1.85.0 Command: /Library/Frameworks/R.framework/Resources/bin/R CMD build --keep-empty-dirs --no-resave-data marray StartedAt: 2025-02-12 17:14:36 -0500 (Wed, 12 Feb 2025) EndedAt: 2025-02-12 17:15:40 -0500 (Wed, 12 Feb 2025) EllapsedTime: 64.1 seconds RetCode: 0 Status: OK PackageFile: marray_1.85.0.tar.gz PackageFileSize: 5.632 MiB