Package: marray Version: 1.85.0 Command: chmod a+r marray -R && E:\biocbuild\bbs-3.21-bioc\R\bin\R.exe CMD build --keep-empty-dirs --no-resave-data marray StartedAt: 2025-02-12 19:43:39 -0500 (Wed, 12 Feb 2025) EndedAt: 2025-02-12 19:45:13 -0500 (Wed, 12 Feb 2025) EllapsedTime: 94.0 seconds RetCode: 0 Status: OK PackageFile: marray_1.85.0.tar.gz PackageFileSize: 4.843 MiB