Package: martini Version: 1.27.0 Command: /Library/Frameworks/R.framework/Resources/bin/R CMD check --install=check:martini.install-out.txt --library=/Library/Frameworks/R.framework/Resources/library --no-vignettes --timings martini_1.27.0.tar.gz StartedAt: 2025-02-09 19:55:00 -0500 (Sun, 09 Feb 2025) EndedAt: 2025-02-09 19:57:12 -0500 (Sun, 09 Feb 2025) EllapsedTime: 131.5 seconds RetCode: 1 Status: ERROR CheckDir: martini.Rcheck Warnings: NA