Package: martini Version: 1.27.0 Command: /home/biocbuild/R/R/bin/R CMD INSTALL martini StartedAt: 2025-01-29 20:22:50 -0000 (Wed, 29 Jan 2025) EndedAt: 2025-01-29 20:23:21 -0000 (Wed, 29 Jan 2025) EllapsedTime: 30.4 seconds RetCode: 0 Status: OK