Package: martini Version: 1.27.0 Command: rm -rf martini.buildbin-libdir && mkdir martini.buildbin-libdir && /Users/biocbuild/BBS/utils/build-universal.sh martini_1.27.0.tar.gz /Library/Frameworks/R.framework/Resources/bin/R martini.buildbin-libdir StartedAt: 2025-02-10 01:00:50 -0500 (Mon, 10 Feb 2025) EndedAt: 2025-02-10 01:01:21 -0500 (Mon, 10 Feb 2025) EllapsedTime: 31.3 seconds RetCode: 0 Status: OK PackageFile: martini_1.27.0.tgz PackageFileSize: 717.8 KiB