Package: martini Version: 1.27.0 Command: /Library/Frameworks/R.framework/Resources/bin/R CMD build --keep-empty-dirs --no-resave-data martini StartedAt: 2025-02-12 17:14:44 -0500 (Wed, 12 Feb 2025) EndedAt: 2025-02-12 17:15:13 -0500 (Wed, 12 Feb 2025) EllapsedTime: 29.8 seconds RetCode: 0 Status: OK PackageFile: martini_1.27.0.tar.gz PackageFileSize: 3.01 MiB