Package: martini Version: 1.27.0 Command: /home/biocbuild/bbs-3.21-bioc/R/bin/R CMD build --keep-empty-dirs --no-resave-data martini StartedAt: 2025-02-09 17:55:31 -0500 (Sun, 09 Feb 2025) EndedAt: 2025-02-09 17:55:55 -0500 (Sun, 09 Feb 2025) EllapsedTime: 24.0 seconds RetCode: 0 Status: OK PackageFile: martini_1.27.0.tar.gz PackageFileSize: 2.997 MiB