Package: martini Version: 1.27.0 Command: /home/biocbuild/bbs-3.21-bioc/R/bin/R CMD INSTALL martini StartedAt: 2025-02-09 15:14:00 -0500 (Sun, 09 Feb 2025) EndedAt: 2025-02-09 15:14:21 -0500 (Sun, 09 Feb 2025) EllapsedTime: 20.5 seconds RetCode: 0 Status: OK