Package: martini Version: 1.27.0 Command: E:\biocbuild\bbs-3.21-bioc\R\bin\R.exe CMD INSTALL martini StartedAt: 2025-02-09 16:01:15 -0500 (Sun, 09 Feb 2025) EndedAt: 2025-02-09 16:02:00 -0500 (Sun, 09 Feb 2025) EllapsedTime: 45.5 seconds RetCode: 0 Status: OK