Package: maser Version: 1.25.0 Command: /Library/Frameworks/R.framework/Resources/bin/R CMD INSTALL maser StartedAt: 2025-02-09 15:17:06 -0500 (Sun, 09 Feb 2025) EndedAt: 2025-02-09 15:17:28 -0500 (Sun, 09 Feb 2025) EllapsedTime: 22.0 seconds RetCode: 0 Status: OK