Package: maser Version: 1.25.0 Command: /Library/Frameworks/R.framework/Resources/bin/R CMD check --install=check:maser.install-out.txt --library=/Library/Frameworks/R.framework/Resources/library --no-vignettes --timings maser_1.25.0.tar.gz StartedAt: 2025-02-09 21:39:53 -0500 (Sun, 09 Feb 2025) EndedAt: 2025-02-09 21:47:00 -0500 (Sun, 09 Feb 2025) EllapsedTime: 427.3 seconds RetCode: 0 Status: OK CheckDir: maser.Rcheck Warnings: 0