Package: maser Version: 1.25.0 Command: /home/biocbuild/bbs-3.21-bioc/R/bin/R CMD INSTALL maser StartedAt: 2025-02-09 15:46:37 -0500 (Sun, 09 Feb 2025) EndedAt: 2025-02-09 15:47:34 -0500 (Sun, 09 Feb 2025) EllapsedTime: 57.4 seconds RetCode: 0 Status: OK