Package: maser Version: 1.25.0 Command: rm -rf maser.buildbin-libdir && mkdir maser.buildbin-libdir && E:\biocbuild\bbs-3.21-bioc\R\bin\R.exe CMD INSTALL --build --library=maser.buildbin-libdir maser_1.25.0.tar.gz StartedAt: 2025-02-10 08:04:19 -0500 (Mon, 10 Feb 2025) EndedAt: 2025-02-10 08:05:50 -0500 (Mon, 10 Feb 2025) EllapsedTime: 90.6 seconds RetCode: 0 Status: OK PackageFile: maser_1.25.0.zip PackageFileSize: 3.236 MiB