Package: maser Version: 1.25.0 Command: E:\biocbuild\bbs-3.21-bioc\R\bin\R.exe CMD INSTALL maser StartedAt: 2025-02-09 16:44:28 -0500 (Sun, 09 Feb 2025) EndedAt: 2025-02-09 16:45:48 -0500 (Sun, 09 Feb 2025) EllapsedTime: 80.0 seconds RetCode: 0 Status: OK