Package: maskBAD Version: 1.51.0 Command: rm -rf maskBAD.buildbin-libdir && mkdir maskBAD.buildbin-libdir && /Users/biocbuild/BBS/utils/build-universal.sh maskBAD_1.51.0.tar.gz /Library/Frameworks/R.framework/Resources/bin/R maskBAD.buildbin-libdir StartedAt: 2025-02-09 22:19:45 -0500 (Sun, 09 Feb 2025) EndedAt: 2025-02-09 22:19:51 -0500 (Sun, 09 Feb 2025) EllapsedTime: 6.1 seconds RetCode: 0 Status: OK PackageFile: maskBAD_1.51.0.tgz PackageFileSize: 1.588 MiB