Package: maskBAD Version: 1.51.0 Command: /Library/Frameworks/R.framework/Resources/bin/R CMD check --install=check:maskBAD.install-out.txt --library=/Library/Frameworks/R.framework/Resources/library --no-vignettes --timings maskBAD_1.51.0.tar.gz StartedAt: 2025-02-09 21:40:09 -0500 (Sun, 09 Feb 2025) EndedAt: 2025-02-09 21:41:53 -0500 (Sun, 09 Feb 2025) EllapsedTime: 103.7 seconds RetCode: 0 Status: OK CheckDir: maskBAD.Rcheck Warnings: 0