Package: maskBAD Version: 1.51.0 Command: /home/biocbuild/bbs-3.21-bioc/R/bin/R CMD build --keep-empty-dirs --no-resave-data maskBAD StartedAt: 2025-02-09 17:56:04 -0500 (Sun, 09 Feb 2025) EndedAt: 2025-02-09 17:57:22 -0500 (Sun, 09 Feb 2025) EllapsedTime: 78.1 seconds RetCode: 0 Status: OK PackageFile: maskBAD_1.51.0.tar.gz PackageFileSize: 1.544 MiB