Package: maskBAD Version: 1.51.0 Command: /home/biocbuild/bbs-3.21-bioc/R/bin/R CMD check --install=check:maskBAD.install-out.txt --library=/home/biocbuild/bbs-3.21-bioc/R/site-library --timings maskBAD_1.51.0.tar.gz StartedAt: 2025-02-09 23:46:14 -0500 (Sun, 09 Feb 2025) EndedAt: 2025-02-09 23:48:28 -0500 (Sun, 09 Feb 2025) EllapsedTime: 134.1 seconds RetCode: 0 Status: OK CheckDir: maskBAD.Rcheck Warnings: 0