Package: matter Version: 2.9.1 Command: rm -rf matter.buildbin-libdir && mkdir matter.buildbin-libdir && /Users/biocbuild/BBS/utils/build-universal.sh matter_2.9.1.tar.gz /Library/Frameworks/R.framework/Resources/bin/R matter.buildbin-libdir StartedAt: 2025-02-09 22:19:50 -0500 (Sun, 09 Feb 2025) EndedAt: 2025-02-09 22:20:06 -0500 (Sun, 09 Feb 2025) EllapsedTime: 16.3 seconds RetCode: 0 Status: OK PackageFile: matter_2.9.1.tgz PackageFileSize: 4.955 MiB