Package: matter Version: 2.9.1 Command: /Library/Frameworks/R.framework/Resources/bin/R CMD check --install=check:matter.install-out.txt --library=/Library/Frameworks/R.framework/Resources/library --no-vignettes --timings matter_2.9.1.tar.gz StartedAt: 2025-02-09 19:56:12 -0500 (Sun, 09 Feb 2025) EndedAt: 2025-02-09 19:57:25 -0500 (Sun, 09 Feb 2025) EllapsedTime: 72.8 seconds RetCode: 0 Status: OK CheckDir: matter.Rcheck Warnings: 0