Package: matter Version: 2.9.1 Command: /Library/Frameworks/R.framework/Resources/bin/R CMD INSTALL matter StartedAt: 2025-02-09 15:12:41 -0500 (Sun, 09 Feb 2025) EndedAt: 2025-02-09 15:12:55 -0500 (Sun, 09 Feb 2025) EllapsedTime: 13.9 seconds RetCode: 0 Status: OK