Package: matter Version: 2.9.1 Command: /home/biocbuild/R/R/bin/R CMD build --keep-empty-dirs --no-resave-data matter StartedAt: 2025-01-29 00:02:24 -0000 (Wed, 29 Jan 2025) EndedAt: 2025-01-29 00:04:21 -0000 (Wed, 29 Jan 2025) EllapsedTime: 117.0 seconds RetCode: 0 Status: OK PackageFile: matter_2.9.1.tar.gz PackageFileSize: 1.915 MiB