Package: matter Version: 2.9.1 Command: /Library/Frameworks/R.framework/Resources/bin/R CMD build --keep-empty-dirs --no-resave-data matter StartedAt: 2025-02-09 17:18:57 -0500 (Sun, 09 Feb 2025) EndedAt: 2025-02-09 17:20:24 -0500 (Sun, 09 Feb 2025) EllapsedTime: 86.8 seconds RetCode: 0 Status: OK PackageFile: matter_2.9.1.tar.gz PackageFileSize: 2.809 MiB