Package: matter Version: 2.9.1 Command: /home/biocbuild/bbs-3.21-bioc/R/bin/R CMD INSTALL matter StartedAt: 2025-02-09 15:11:47 -0500 (Sun, 09 Feb 2025) EndedAt: 2025-02-09 15:12:34 -0500 (Sun, 09 Feb 2025) EllapsedTime: 46.5 seconds RetCode: 0 Status: OK