Package: matter Version: 2.9.1 Command: rm -rf matter.buildbin-libdir && mkdir matter.buildbin-libdir && E:\biocbuild\bbs-3.21-bioc\R\bin\R.exe CMD INSTALL --build --library=matter.buildbin-libdir matter_2.9.1.tar.gz StartedAt: 2025-02-05 08:16:32 -0500 (Wed, 05 Feb 2025) EndedAt: 2025-02-05 08:20:16 -0500 (Wed, 05 Feb 2025) EllapsedTime: 224.1 seconds RetCode: 0 Status: OK PackageFile: matter_2.9.1.zip PackageFileSize: 3.909 MiB