Package: matter Version: 2.9.1 Command: E:\biocbuild\bbs-3.21-bioc\R\bin\R.exe CMD INSTALL matter StartedAt: 2025-02-09 15:41:35 -0500 (Sun, 09 Feb 2025) EndedAt: 2025-02-09 15:44:49 -0500 (Sun, 09 Feb 2025) EllapsedTime: 194.0 seconds RetCode: 0 Status: OK