Package: mbQTL Version: 1.7.0 Command: rm -rf mbQTL.buildbin-libdir && mkdir mbQTL.buildbin-libdir && /Users/biocbuild/BBS/utils/build-universal.sh mbQTL_1.7.0.tar.gz /Library/Frameworks/R.framework/Resources/bin/R mbQTL.buildbin-libdir StartedAt: 2025-02-09 22:19:55 -0500 (Sun, 09 Feb 2025) EndedAt: 2025-02-09 22:20:00 -0500 (Sun, 09 Feb 2025) EllapsedTime: 5.1 seconds RetCode: 0 Status: OK PackageFile: mbQTL_1.7.0.tgz PackageFileSize: 1.511 MiB