Package: mbQTL Version: 1.7.0 Command: /home/biocbuild/R/R/bin/R CMD check --install=check:mbQTL.install-out.txt --library=/home/biocbuild/R/R/site-library --no-vignettes --timings mbQTL_1.7.0.tar.gz StartedAt: 2025-01-28 12:07:08 -0000 (Tue, 28 Jan 2025) EndedAt: 2025-01-28 12:08:54 -0000 (Tue, 28 Jan 2025) EllapsedTime: 106.1 seconds RetCode: 0 Status: OK CheckDir: mbQTL.Rcheck Warnings: 0