Package: mbQTL Version: 1.7.0 Command: /Library/Frameworks/R.framework/Resources/bin/R CMD check --install=check:mbQTL.install-out.txt --library=/Library/Frameworks/R.framework/Resources/library --no-vignettes --timings mbQTL_1.7.0.tar.gz StartedAt: 2025-02-04 21:26:37 -0500 (Tue, 04 Feb 2025) EndedAt: 2025-02-04 21:28:14 -0500 (Tue, 04 Feb 2025) EllapsedTime: 97.3 seconds RetCode: 0 Status: OK CheckDir: mbQTL.Rcheck Warnings: 0