Package: mbQTL Version: 1.7.0 Command: /Library/Frameworks/R.framework/Resources/bin/R CMD INSTALL mbQTL StartedAt: 2025-02-04 15:37:15 -0500 (Tue, 04 Feb 2025) EndedAt: 2025-02-04 15:37:29 -0500 (Tue, 04 Feb 2025) EllapsedTime: 13.9 seconds RetCode: 0 Status: OK