Package: mbQTL Version: 1.7.0 Command: rm -rf mbQTL.buildbin-libdir && mkdir mbQTL.buildbin-libdir && E:\biocbuild\bbs-3.21-bioc\R\bin\R.exe CMD INSTALL --build --library=mbQTL.buildbin-libdir mbQTL_1.7.0.tar.gz StartedAt: 2025-02-10 08:05:11 -0500 (Mon, 10 Feb 2025) EndedAt: 2025-02-10 08:05:28 -0500 (Mon, 10 Feb 2025) EllapsedTime: 16.4 seconds RetCode: 0 Status: OK PackageFile: mbQTL_1.7.0.zip PackageFileSize: 785.3 KiB