Package: mbQTL Version: 1.7.0 Command: chmod a+r mbQTL -R && E:\biocbuild\bbs-3.21-bioc\R\bin\R.exe CMD build --keep-empty-dirs --no-resave-data mbQTL StartedAt: 2025-02-09 19:42:04 -0500 (Sun, 09 Feb 2025) EndedAt: 2025-02-09 19:43:47 -0500 (Sun, 09 Feb 2025) EllapsedTime: 102.3 seconds RetCode: 0 Status: OK PackageFile: mbQTL_1.7.0.tar.gz PackageFileSize: 731.5 KiB