Package: mdp Version: 1.27.0 Command: /Library/Frameworks/R.framework/Resources/bin/R CMD build --keep-empty-dirs --no-resave-data mdp StartedAt: 2025-02-12 16:50:18 -0500 (Wed, 12 Feb 2025) EndedAt: 2025-02-12 16:50:26 -0500 (Wed, 12 Feb 2025) EllapsedTime: 8.1 seconds RetCode: 0 Status: OK PackageFile: mdp_1.27.0.tar.gz PackageFileSize: 4.4 MiB