Package: mdp Version: 1.27.0 Command: rm -rf mdp.buildbin-libdir && mkdir mdp.buildbin-libdir && /Users/biocbuild/BBS/utils/build-universal.sh mdp_1.27.0.tar.gz /Library/Frameworks/R.framework/Resources/bin/R mdp.buildbin-libdir StartedAt: 2025-02-10 01:01:13 -0500 (Mon, 10 Feb 2025) EndedAt: 2025-02-10 01:01:21 -0500 (Mon, 10 Feb 2025) EllapsedTime: 8.1 seconds RetCode: 0 Status: OK PackageFile: mdp_1.27.0.tgz PackageFileSize: 4.364 MiB