Package: mdp Version: 1.27.0 Command: /home/biocbuild/bbs-3.21-bioc/R/bin/R CMD INSTALL mdp StartedAt: 2025-02-12 15:09:00 -0500 (Wed, 12 Feb 2025) EndedAt: 2025-02-12 15:09:21 -0500 (Wed, 12 Feb 2025) EllapsedTime: 21.7 seconds RetCode: 0 Status: OK