Package: mdqc Version: 1.69.0 Command: /Library/Frameworks/R.framework/Resources/bin/R CMD INSTALL mdqc StartedAt: 2025-02-09 15:01:09 -0500 (Sun, 09 Feb 2025) EndedAt: 2025-02-09 15:01:12 -0500 (Sun, 09 Feb 2025) EllapsedTime: 3.2 seconds RetCode: 0 Status: OK