Package: mdqc Version: 1.69.0 Command: /home/biocbuild/R/R/bin/R CMD build --keep-empty-dirs --no-resave-data mdqc StartedAt: 2025-01-29 00:05:08 -0000 (Wed, 29 Jan 2025) EndedAt: 2025-01-29 00:05:16 -0000 (Wed, 29 Jan 2025) EllapsedTime: 8.0 seconds RetCode: 0 Status: OK PackageFile: mdqc_1.69.0.tar.gz PackageFileSize: 254.7 KiB